BEGIN:VCALENDAR
VERSION:2.0
PRODID:-//CEEM - ECPv6.1.2.2//NONSGML v1.0//EN
CALSCALE:GREGORIAN
METHOD:PUBLISH
X-WR-CALNAME:CEEM
X-ORIGINAL-URL:https://clubentrepreneur.cegepmontpetit.ca
X-WR-CALDESC:évènements pour CEEM
REFRESH-INTERVAL;VALUE=DURATION:PT1H
X-Robots-Tag:noindex
X-PUBLISHED-TTL:PT1H
BEGIN:VTIMEZONE
TZID:America/Toronto
BEGIN:DAYLIGHT
TZOFFSETFROM:-0500
TZOFFSETTO:-0400
TZNAME:EDT
DTSTART:20210314T070000
END:DAYLIGHT
BEGIN:STANDARD
TZOFFSETFROM:-0400
TZOFFSETTO:-0500
TZNAME:EST
DTSTART:20211107T060000
END:STANDARD
END:VTIMEZONE
BEGIN:VEVENT
DTSTART;VALUE=DATE:20210930
DTEND;VALUE=DATE:20211016
DTSTAMP:20260422T064004
CREATED:20210930T160920Z
LAST-MODIFIED:20210930T175642Z
UID:1007-1632960000-1634342399@clubentrepreneur.cegepmontpetit.ca
SUMMARY:Défi entrepreneurial : propulsez votre avenir !
DESCRIPTION:L’entrepreneuriat vous attire ? Vous aimeriez démarrer une petite entreprise ou concrétiser un projet innovant ? Participez au Défi entrepreneurial : propulsez votre avenir! organisé par la Fondation du Cégep et courez la chance de : \n\nRemporter l’une des 4 bourses totalisant 10 000 $\nBénéficier de mentorat pour réaliser votre projet\n\nSoumettez votre projet avant le vendredi 15 octobre 2021 en l’acheminant à fdcem@cegepmontpetit.ca. \nPour avoir plus d’informations sur les critères d’évaluation et sur l’évènement du Défi \, consultez le site de la fondation : https://fondationcegepmontpetit.ca/bourses/
URL:https://clubentrepreneur.cegepmontpetit.ca/event/defi-entrepreneurial-propulsez-votre-avenir/
ATTACH;FMTTYPE=image/jpeg:https://clubentrepreneur.cegepmontpetit.ca/wp-content/uploads/2021/09/pexels-rodnae-productions-7414211.jpg
END:VEVENT
BEGIN:VEVENT
DTSTART;TZID=America/Toronto:20211020T121000
DTEND;TZID=America/Toronto:20211020T140000
DTSTAMP:20260422T064004
CREATED:20210921T171028Z
LAST-MODIFIED:20211020T142011Z
UID:942-1634731800-1634738400@clubentrepreneur.cegepmontpetit.ca
SUMMARY:Conférence « Les erreurs qui nous propulsent »
DESCRIPTION:Les erreurs qui nous propulsent – à être la meilleure version de soi-même \nC’est avec authenticité que Sophie vous livre les erreurs qui ont jalonné son parcours d’entrepreneur depuis ses débuts à la tête de son entreprise. Elle met également en lumière les apprentissages qui ont été des vecteurs de changement dans sa vie. Elle choisit d’utiliser l’expérience de la pandémie – en l’occurrence la plus grande épreuve de sa vie – afin de créer un pivot important\, favorisant à la fois un meilleur équilibre au quotidien et ce tout priorisant les besoins humains au devant de la quête du succès absolu. \nDans cette conférence\, Sophie démocratise l’erreur. Elle s’intéresse davantage au parcours qu’à la destination finale\, tel un chemin nécessaire menant à la connexion du soi\, à l’adaptation aux changements ainsi qu’à la transformation\, dans le but d’inspirer un grand nombre de personnes à déployer leur plein potentiel. \nBiographie \n \nGlobe-trotter\, naturellement rassembleuse\, Sophie Bienvenue est diplômée d’un Baccalauréat en Administration des affaires. Elle occupe les fonctions de conseillère aux entrepreneurs pendant 5 ans\, avant de fonder l’entreprise Passion Yoga & cie en 2016. Pionnière du yoga mobile au Québec\, elle se passionne pour un mode de vie axé sur le bien-être et l’équilibre et s’investit dans l’enseignement\, l’écriture\, le monde du voyage ainsi que le développement des affaires. \n13 octobre\, de 12h10 à 14h\, local D-0712\nPlaces limitées à 72 personnes
URL:https://clubentrepreneur.cegepmontpetit.ca/event/conference-les-erreurs-qui-nous-propulsent/
ATTACH;FMTTYPE=image/jpeg:https://clubentrepreneur.cegepmontpetit.ca/wp-content/uploads/2021/09/photo-scaled-e1633098023583.jpg
END:VEVENT
BEGIN:VEVENT
DTSTART;TZID=America/Toronto:20211027T121000
DTEND;TZID=America/Toronto:20211027T140000
DTSTAMP:20260422T064004
CREATED:20210902T150005Z
LAST-MODIFIED:20211001T141850Z
UID:887-1635336600-1635343200@clubentrepreneur.cegepmontpetit.ca
SUMMARY:Conférence « L'achat local »
DESCRIPTION:Conférence sur l’achat local par Frédéric Choinière\, tout ce que vous devez savoir pour encourager l’économie d’ici\, un poivron\, un pantalon ou un ponton à la fois!
URL:https://clubentrepreneur.cegepmontpetit.ca/event/conference-de-frederic-choiniere/
ATTACH;FMTTYPE=image/jpeg:https://clubentrepreneur.cegepmontpetit.ca/wp-content/uploads/2021/09/pexels-fauxels-3184317-scaled.jpg
END:VEVENT
END:VCALENDAR