BEGIN:VCALENDAR
VERSION:2.0
PRODID:-//CEEM - ECPv6.1.2.2//NONSGML v1.0//EN
CALSCALE:GREGORIAN
METHOD:PUBLISH
X-ORIGINAL-URL:https://clubentrepreneur.cegepmontpetit.ca
X-WR-CALDESC:évènements pour CEEM
REFRESH-INTERVAL;VALUE=DURATION:PT1H
X-Robots-Tag:noindex
X-PUBLISHED-TTL:PT1H
BEGIN:VTIMEZONE
TZID:America/Toronto
BEGIN:DAYLIGHT
TZOFFSETFROM:-0500
TZOFFSETTO:-0400
TZNAME:EDT
DTSTART:20200308T070000
END:DAYLIGHT
BEGIN:STANDARD
TZOFFSETFROM:-0400
TZOFFSETTO:-0500
TZNAME:EST
DTSTART:20201101T060000
END:STANDARD
END:VTIMEZONE
BEGIN:VEVENT
DTSTART;TZID=America/Toronto:20201208T120000
DTEND;TZID=America/Toronto:20201208T170000
DTSTAMP:20260423T104927
CREATED:20210526T050556Z
LAST-MODIFIED:20210922T132207Z
UID:779-1607428800-1607446800@clubentrepreneur.cegepmontpetit.ca
SUMMARY:Gala virtuel de la fondation du Cégep Édouard-Montpetit
DESCRIPTION:La fondation du Cégep Édouard Montpetit\, à a cœur l’entrepreneuriat et soutien grandement les étudiants dans leur projet entrepreneurial. Pour cette occasion\, elle a organisé cette année un Gala virtuel de style « Les Dragons » pour les étudiants du Cégep Édouard Montpetit\, le 8 décembre 2020. Trois projets ont été retenus et ont été soumis à un jury\, afin de remettre aux gagnants des bourses équivalant à 10 000$ et leur offrir du mentorat pendant 1 an. Maëva Anastase\, une des membres du Club a été choisie parmi les 3 finalistes.\nPour en connaître davantage sur cet évènement\, vous pouvez cliquer sur ce lien :\nhttps://fondationcegepmontpetit.ca/https/fondationcegepmontpetitca/campagne-inspiration/
URL:https://clubentrepreneur.cegepmontpetit.ca/event/gala-virtuel-de-la-fondation-du-cegep-edouard-montpetit/
ATTACH;FMTTYPE=image/jpeg:https://clubentrepreneur.cegepmontpetit.ca/wp-content/uploads/2021/05/FON_CampagneVirtuelle_GalaVirtuel-MENTOR_APP-Evenement.jpg
END:VEVENT
END:VCALENDAR