BEGIN:VCALENDAR
VERSION:2.0
PRODID:-//CEEM - ECPv6.1.2.2//NONSGML v1.0//EN
CALSCALE:GREGORIAN
METHOD:PUBLISH
X-ORIGINAL-URL:https://clubentrepreneur.cegepmontpetit.ca
X-WR-CALDESC:évènements pour CEEM
REFRESH-INTERVAL;VALUE=DURATION:PT1H
X-Robots-Tag:noindex
X-PUBLISHED-TTL:PT1H
BEGIN:VTIMEZONE
TZID:America/Toronto
BEGIN:DAYLIGHT
TZOFFSETFROM:-0500
TZOFFSETTO:-0400
TZNAME:EDT
DTSTART:20210314T070000
END:DAYLIGHT
BEGIN:STANDARD
TZOFFSETFROM:-0400
TZOFFSETTO:-0500
TZNAME:EST
DTSTART:20211107T060000
END:STANDARD
END:VTIMEZONE
BEGIN:VEVENT
DTSTART;VALUE=DATE:20211108
DTEND;VALUE=DATE:20211113
DTSTAMP:20260422T064110
CREATED:20210902T150315Z
LAST-MODIFIED:20211206T141817Z
UID:895-1636329600-1636761599@clubentrepreneur.cegepmontpetit.ca
SUMMARY:Semaine de l'entrepreneuriat
DESCRIPTION:Le Club entrepreneur (CEEM) et la Fondation du cégep Édouard-Montpetit vous feront découvrir l’univers de l’entrepreneuriat à travers des conférences\, du réseautage\, des entrevues et des micros-stages virtuels. En plus\, un défi entrepreneurial vous attend avec des prix en bourse\, en plus du lancement de la Friperie d’Édouard Montpetit. 
URL:https://clubentrepreneur.cegepmontpetit.ca/event/semaine-de-lentrepreneuriat/
ATTACH;FMTTYPE=image/jpeg:https://clubentrepreneur.cegepmontpetit.ca/wp-content/uploads/2021/12/20211111_204933-scaled.jpg
END:VEVENT
END:VCALENDAR