BEGIN:VCALENDAR
VERSION:2.0
PRODID:-//CEEM - ECPv6.1.2.2//NONSGML v1.0//EN
CALSCALE:GREGORIAN
METHOD:PUBLISH
X-ORIGINAL-URL:https://clubentrepreneur.cegepmontpetit.ca
X-WR-CALDESC:évènements pour CEEM
REFRESH-INTERVAL;VALUE=DURATION:PT1H
X-Robots-Tag:noindex
X-PUBLISHED-TTL:PT1H
BEGIN:VTIMEZONE
TZID:America/Toronto
BEGIN:DAYLIGHT
TZOFFSETFROM:-0500
TZOFFSETTO:-0400
TZNAME:EDT
DTSTART:20210314T070000
END:DAYLIGHT
BEGIN:STANDARD
TZOFFSETFROM:-0400
TZOFFSETTO:-0500
TZNAME:EST
DTSTART:20211107T060000
END:STANDARD
END:VTIMEZONE
BEGIN:VEVENT
DTSTART;TZID=America/Toronto:20210929T121000
DTEND;TZID=America/Toronto:20210929T133000
DTSTAMP:20260422T091645
CREATED:20210902T145857Z
LAST-MODIFIED:20210921T173206Z
UID:885-1632917400-1632922200@clubentrepreneur.cegepmontpetit.ca
SUMMARY:Atelier « Comment recruter en tant qu’entrepreneur »
DESCRIPTION:Atelier « Comment recruter en tant qu’entrepreneur » donné par un spécialiste en ressources humaines de l’entreprise TELUS.
URL:https://clubentrepreneur.cegepmontpetit.ca/event/atelier-comment-recruter-en-tant-quentrepreneur/
ATTACH;FMTTYPE=image/jpeg:https://clubentrepreneur.cegepmontpetit.ca/wp-content/uploads/2021/09/pexels-katerina-holmes-5905443-scaled.jpg
END:VEVENT
END:VCALENDAR