BEGIN:VCALENDAR
VERSION:2.0
PRODID:-//CEEM - ECPv6.1.2.2//NONSGML v1.0//EN
CALSCALE:GREGORIAN
METHOD:PUBLISH
X-WR-CALNAME:CEEM
X-ORIGINAL-URL:https://clubentrepreneur.cegepmontpetit.ca
X-WR-CALDESC:évènements pour CEEM
REFRESH-INTERVAL;VALUE=DURATION:PT1H
X-Robots-Tag:noindex
X-PUBLISHED-TTL:PT1H
BEGIN:VTIMEZONE
TZID:America/Toronto
BEGIN:DAYLIGHT
TZOFFSETFROM:-0500
TZOFFSETTO:-0400
TZNAME:EDT
DTSTART:20210314T070000
END:DAYLIGHT
BEGIN:STANDARD
TZOFFSETFROM:-0400
TZOFFSETTO:-0500
TZNAME:EST
DTSTART:20211107T060000
END:STANDARD
END:VTIMEZONE
BEGIN:VEVENT
DTSTART;VALUE=DATE:20210906
DTEND;VALUE=DATE:20210923
DTSTAMP:20260422T103428
CREATED:20210902T144603Z
LAST-MODIFIED:20210921T172726Z
UID:874-1630886400-1632355199@clubentrepreneur.cegepmontpetit.ca
SUMMARY:Période d’inscription au Club Entrepreneur
DESCRIPTION:
URL:https://clubentrepreneur.cegepmontpetit.ca/event/periode-dinscription-au-club-entrepreneur/
ATTACH;FMTTYPE=image/jpeg:https://clubentrepreneur.cegepmontpetit.ca/wp-content/uploads/2021/09/pexels-rodnae-productions-7414211.jpg
END:VEVENT
BEGIN:VEVENT
DTSTART;TZID=America/Toronto:20210921T121000
DTEND;TZID=America/Toronto:20210921T140000
DTSTAMP:20260422T103428
CREATED:20210902T145411Z
LAST-MODIFIED:20210921T173135Z
UID:877-1632226200-1632232800@clubentrepreneur.cegepmontpetit.ca
SUMMARY:WebConvo « Découvre l'expérience Club »
DESCRIPTION:Grâce à cette Webconvo sous forme de panel\, viens découvrir ce qu’est l’expérience club à travers les témoignages de membres et ex-membres du réseau de l’ACEE du Québec. \nInscris-toi à acee.qc.ca/initiatives.
URL:https://clubentrepreneur.cegepmontpetit.ca/event/webconvo-decouvre-lexperience-club/
ATTACH;FMTTYPE=image/jpeg:https://clubentrepreneur.cegepmontpetit.ca/wp-content/uploads/2021/09/pexels-karolina-grabowska-4467738-scaled.jpg
END:VEVENT
END:VCALENDAR