BEGIN:VCALENDAR
VERSION:2.0
PRODID:-//CEEM - ECPv6.1.2.2//NONSGML v1.0//EN
CALSCALE:GREGORIAN
METHOD:PUBLISH
X-ORIGINAL-URL:https://clubentrepreneur.cegepmontpetit.ca
X-WR-CALDESC:évènements pour CEEM
REFRESH-INTERVAL;VALUE=DURATION:PT1H
X-Robots-Tag:noindex
X-PUBLISHED-TTL:PT1H
BEGIN:VTIMEZONE
TZID:America/Toronto
BEGIN:DAYLIGHT
TZOFFSETFROM:-0500
TZOFFSETTO:-0400
TZNAME:EDT
DTSTART:20210314T070000
END:DAYLIGHT
BEGIN:STANDARD
TZOFFSETFROM:-0400
TZOFFSETTO:-0500
TZNAME:EST
DTSTART:20211107T060000
END:STANDARD
END:VTIMEZONE
BEGIN:VEVENT
DTSTART;VALUE=DATE:20210901
DTEND;VALUE=DATE:20210902
DTSTAMP:20260422T091645
CREATED:20210902T143116Z
LAST-MODIFIED:20210922T132100Z
UID:870-1630454400-1630540799@clubentrepreneur.cegepmontpetit.ca
SUMMARY:Lancement de la programmation de l'ACEE
DESCRIPTION:Lancement de la programmation de l’Association des clubs d’entrepreneurs étudiants (ACEE) sur leur page Facebook : ACEE du Québec | Facebook.
URL:https://clubentrepreneur.cegepmontpetit.ca/event/lancement-de-la-programmation-de-lacee/
ATTACH;FMTTYPE=image/png:https://clubentrepreneur.cegepmontpetit.ca/wp-content/uploads/2021/09/Capture.png
END:VEVENT
END:VCALENDAR