BEGIN:VCALENDAR
VERSION:2.0
PRODID:-//CEEM - ECPv6.1.2.2//NONSGML v1.0//EN
CALSCALE:GREGORIAN
METHOD:PUBLISH
X-WR-CALNAME:CEEM
X-ORIGINAL-URL:https://clubentrepreneur.cegepmontpetit.ca
X-WR-CALDESC:évènements pour CEEM
REFRESH-INTERVAL;VALUE=DURATION:PT1H
X-Robots-Tag:noindex
X-PUBLISHED-TTL:PT1H
BEGIN:VTIMEZONE
TZID:America/Toronto
BEGIN:DAYLIGHT
TZOFFSETFROM:-0500
TZOFFSETTO:-0400
TZNAME:EDT
DTSTART:20190310T070000
END:DAYLIGHT
BEGIN:STANDARD
TZOFFSETFROM:-0400
TZOFFSETTO:-0500
TZNAME:EST
DTSTART:20191103T060000
END:STANDARD
END:VTIMEZONE
BEGIN:VEVENT
DTSTART;TZID=America/Toronto:20191022T180000
DTEND;TZID=America/Toronto:20191022T230000
DTSTAMP:20260424T170854
CREATED:20191008T194845Z
LAST-MODIFIED:20200930T131145Z
UID:274-1571767200-1571785200@clubentrepreneur.cegepmontpetit.ca
SUMMARY:Soirée de l’entrepreneuriat - Brain Date
DESCRIPTION:Une quarantaine d’étudiants du cégep Édouard Montpetit ont pu vivre un concept unique créer par le club entrepreneur CEM avenir. Le Club a fait venir 4 conférenciers traitant de plusieurs thèmes; la rétention des talents\, le e-commerce et ses dérivées\, l’importance du réseautage\, la prise de risque et la certification bio. Chaque conférencier bénéficiait d’un moment privilégié de 20 minutes avec un groupe de 15 étudiants\, afin de partager leur expertise façon plus conviviale. Ce fut un succès !! Cette soirée a été conclue avec une grande entrevue\, organiser par la fondation d’Édouard Montpetit\, où Serge et Julie Godin PDG de CGI\, son venu discuter de leur parcours.
URL:https://clubentrepreneur.cegepmontpetit.ca/event/soiree-entrepreneuriat-brain-date/
ATTACH;FMTTYPE=image/jpeg:https://clubentrepreneur.cegepmontpetit.ca/wp-content/uploads/2020/01/DSF1638.jpg
END:VEVENT
END:VCALENDAR