BEGIN:VCALENDAR
VERSION:2.0
PRODID:-//CEEM - ECPv6.1.2.2//NONSGML v1.0//EN
CALSCALE:GREGORIAN
METHOD:PUBLISH
X-WR-CALNAME:CEEM
X-ORIGINAL-URL:https://clubentrepreneur.cegepmontpetit.ca
X-WR-CALDESC:évènements pour CEEM
REFRESH-INTERVAL;VALUE=DURATION:PT1H
X-Robots-Tag:noindex
X-PUBLISHED-TTL:PT1H
BEGIN:VTIMEZONE
TZID:America/Toronto
BEGIN:DAYLIGHT
TZOFFSETFROM:-0500
TZOFFSETTO:-0400
TZNAME:EDT
DTSTART:20190310T070000
END:DAYLIGHT
BEGIN:STANDARD
TZOFFSETFROM:-0400
TZOFFSETTO:-0500
TZNAME:EST
DTSTART:20191103T060000
END:STANDARD
END:VTIMEZONE
BEGIN:VEVENT
DTSTART;TZID=America/Toronto:20191009T080000
DTEND;TZID=America/Toronto:20191009T170000
DTSTAMP:20260424T170853
CREATED:20191009T190648Z
LAST-MODIFIED:20200930T130818Z
UID:292-1570608000-1570640400@clubentrepreneur.cegepmontpetit.ca
SUMMARY:Conférence Reptiltech
DESCRIPTION:Dans le cadre du programme « le français s’affiche » et de l’entrepreneuriat\, Jonathan Labrosse\, directeur du développement d’affaires au sein de la compagnie Reptile\, a donné une conférence sur son parcours professionnel et sur les nouvelles technologies numériques. Jonathan a su capter l’intérêt des étudiants par ses anecdotes et sa passion pour son métier.
URL:https://clubentrepreneur.cegepmontpetit.ca/event/conference-reptiltech/
ATTACH;FMTTYPE=image/jpeg:https://clubentrepreneur.cegepmontpetit.ca/wp-content/uploads/2020/01/4465B34D-D1AF-4360-9D83-1F3C09A036C9-e1579621722524.jpeg
END:VEVENT
END:VCALENDAR