BEGIN:VCALENDAR
VERSION:2.0
PRODID:-//CEEM - ECPv6.1.2.2//NONSGML v1.0//EN
CALSCALE:GREGORIAN
METHOD:PUBLISH
X-WR-CALNAME:CEEM
X-ORIGINAL-URL:https://clubentrepreneur.cegepmontpetit.ca
X-WR-CALDESC:évènements pour CEEM
REFRESH-INTERVAL;VALUE=DURATION:PT1H
X-Robots-Tag:noindex
X-PUBLISHED-TTL:PT1H
BEGIN:VTIMEZONE
TZID:America/Toronto
BEGIN:DAYLIGHT
TZOFFSETFROM:-0500
TZOFFSETTO:-0400
TZNAME:EDT
DTSTART:20190310T070000
END:DAYLIGHT
BEGIN:STANDARD
TZOFFSETFROM:-0400
TZOFFSETTO:-0500
TZNAME:EST
DTSTART:20191103T060000
END:STANDARD
END:VTIMEZONE
BEGIN:VEVENT
DTSTART;TZID=America/Toronto:20190501T120000
DTEND;TZID=America/Toronto:20190501T140000
DTSTAMP:20260425T124042
CREATED:20190501T160045Z
LAST-MODIFIED:20211206T141001Z
UID:335-1556712000-1556719200@clubentrepreneur.cegepmontpetit.ca
SUMMARY:Conférence avec Hassoun Camara « saisir sa chance »
DESCRIPTION:Plus d’une quarantaine d’étudiants ont assisté à cette conférence et ont pu bénéficier d’un moment privilégié avec cet athlète devenu entrepreneur. Les étudiants ont eu l’opportunité de lui poser des questions et de le rencontrer individuellement.  
URL:https://clubentrepreneur.cegepmontpetit.ca/event/conference-avec-hassoun-camara-%e2%80%afsaisir-sa-chance%e2%80%af/
ATTACH;FMTTYPE=image/jpeg:https://clubentrepreneur.cegepmontpetit.ca/wp-content/uploads/2019/09/Site_Web_Entrepreunariat_2019_05_01_001.jpg
END:VEVENT
END:VCALENDAR